BEGIN:VCALENDAR
VERSION:2.0
PRODID:-//Squarespace Inc/Squarespace 6//v6//EN
BEGIN:VEVENT
UID:5c6e2fabeb39315d8de18b80@squarespace.com
DTSTAMP:20190221T045812Z
DTSTART:20190317T011500Z
DTEND:20190317T041500Z
SUMMARY:Emad Younan
END:VEVENT
END:VCALENDAR
