BEGIN:VCALENDAR
VERSION:2.0
PRODID:-//Squarespace Inc/Squarespace 6//v6//EN
BEGIN:VEVENT
UID:5c6e2ffff9619aea294c82cf@squarespace.com
DTSTAMP:20190221T045854Z
DTSTART:20190323T011500Z
DTEND:20190323T041500Z
SUMMARY:Antoine
END:VEVENT
END:VCALENDAR
