BEGIN:VCALENDAR
VERSION:2.0
PRODID:-//Squarespace Inc/Squarespace 6//v6//EN
BEGIN:VEVENT
UID:5c6e301b9b747a469b079cd0@squarespace.com
DTSTAMP:20190221T045923Z
DTSTART:20190324T011500Z
DTEND:20190324T041500Z
SUMMARY:Kye Brown
END:VEVENT
END:VCALENDAR
