BEGIN:VCALENDAR
VERSION:2.0
PRODID:-//Squarespace Inc/Squarespace 6//v6//EN
BEGIN:VEVENT
UID:5c6e3037f4e1fc0b57cd182a@squarespace.com
DTSTAMP:20190221T045949Z
DTSTART:20190330T011500Z
DTEND:20190330T041500Z
SUMMARY:Sarah Bernardo
END:VEVENT
END:VCALENDAR
