BEGIN:VCALENDAR
VERSION:2.0
PRODID:-//Squarespace Inc/Squarespace 6//v6//EN
BEGIN:VEVENT
UID:5c6e2eddc830252a16aaf279@squarespace.com
DTSTAMP:20190221T045450Z
DTSTART:20190302T010000Z
DTEND:20190302T040000Z
SUMMARY:Mitchell Gardner
END:VEVENT
END:VCALENDAR
