BEGIN:VCALENDAR
VERSION:2.0
PRODID:-//Squarespace Inc/Squarespace 6//v6//EN
BEGIN:VEVENT
UID:5c2d6104352f53eb0ab26ab9@squarespace.com
DTSTAMP:20190103T011044Z
DTSTART:20190210T010000Z
DTEND:20190210T040000Z
SUMMARY:Abbey Gardner
END:VEVENT
END:VCALENDAR
