BEGIN:VCALENDAR
VERSION:2.0
PRODID:-//Squarespace Inc/Squarespace 6//v6//EN
BEGIN:VEVENT
UID:5c2d60e140ec9a33ed6e7c3b@squarespace.com
DTSTAMP:20190103T011018Z
DTSTART:20190209T010000Z
DTEND:20190209T040000Z
SUMMARY:Ryan Thomas
END:VEVENT
END:VCALENDAR
