BEGIN:VCALENDAR
VERSION:2.0
PRODID:-//Squarespace Inc/Squarespace 6//v6//EN
BEGIN:VEVENT
UID:5c2d7a3ecd836603beb9e395@squarespace.com
DTSTAMP:20190103T025824Z
DTSTART:20190224T010000Z
DTEND:20190224T040000Z
SUMMARY:Steve Tonge
END:VEVENT
END:VCALENDAR
