BEGIN:VCALENDAR
VERSION:2.0
PRODID:-//Squarespace Inc/Squarespace 6//v6//EN
BEGIN:VEVENT
UID:5c2d7a1b4fa51a7e2175acd4@squarespace.com
DTSTAMP:20190103T025756Z
DTSTART:20190223T010000Z
DTEND:20190223T040000Z
SUMMARY:Joey D
END:VEVENT
END:VCALENDAR
