BEGIN:VCALENDAR
VERSION:2.0
PRODID:-//Squarespace Inc/Squarespace 6//v6//EN
BEGIN:VEVENT
UID:5c2d7a004d7a9cb177e8da2d@squarespace.com
DTSTAMP:20190103T025721Z
DTSTART:20190217T010000Z
DTEND:20190217T040000Z
SUMMARY:Pablo Dias
END:VEVENT
END:VCALENDAR
