BEGIN:VCALENDAR
VERSION:2.0
PRODID:-//Squarespace Inc/Squarespace 6//v6//EN
BEGIN:VEVENT
UID:5c2d736721c67c9c70dff57c@squarespace.com
DTSTAMP:20190103T025654Z
DTSTART:20190216T010000Z
DTEND:20190216T040000Z
SUMMARY:Ethan Conway
END:VEVENT
END:VCALENDAR
