BEGIN:VCALENDAR
VERSION:2.0
PRODID:-//Squarespace Inc/Squarespace 6//v6//EN
BEGIN:VEVENT
UID:5c2d611e4d7a9cb177e790ef@squarespace.com
DTSTAMP:20190212T231024Z
DTSTART:20190215T010000Z
DTEND:20190215T040000Z
SUMMARY:Swinging Sixties | Valentines Day Event
END:VEVENT
END:VCALENDAR
