BEGIN:VCALENDAR
VERSION:2.0
PRODID:-//Squarespace Inc/Squarespace 6//v6//EN
BEGIN:VEVENT
UID:5c2d602303ce64bbaa325538@squarespace.com
DTSTAMP:20190103T010828Z
DTSTART:20190202T010000Z
DTEND:20190202T040000Z
SUMMARY:Marty Stewart
END:VEVENT
END:VCALENDAR
