BEGIN:VCALENDAR
VERSION:2.0
PRODID:-//Squarespace Inc/Squarespace 6//v6//EN
BEGIN:VEVENT
UID:5c17491488251bd5e62fc82e@squarespace.com
DTSTAMP:20181217T065850Z
DTSTART:20190106T010000Z
DTEND:20190106T040000Z
SUMMARY:Keith Armitage
END:VEVENT
END:VCALENDAR
