BEGIN:VCALENDAR
VERSION:2.0
PRODID:-//Squarespace Inc/Squarespace 6//v6//EN
BEGIN:VEVENT
UID:5c1748e1032be42f61384b5b@squarespace.com
DTSTAMP:20181217T065821Z
DTSTART:20190105T010000Z
DTEND:20190105T040000Z
SUMMARY:Jack Evans
END:VEVENT
END:VCALENDAR
