BEGIN:VCALENDAR
VERSION:2.0
PRODID:-//Squarespace Inc/Squarespace 6//v6//EN
BEGIN:VEVENT
UID:5c1749ef575d1f251105a4b6@squarespace.com
DTSTAMP:20181217T070425Z
DTSTART:20190127T010000Z
DTEND:20190127T040000Z
SUMMARY:Midlife Crisis Aussie Rock Tribute
END:VEVENT
END:VCALENDAR
