BEGIN:VCALENDAR
VERSION:2.0
PRODID:-//Squarespace Inc/Squarespace 6//v6//EN
BEGIN:VEVENT
UID:5c1749cf4ae23769a920b3ea@squarespace.com
DTSTAMP:20181217T070157Z
DTSTART:20190126T010000Z
DTEND:20190126T040000Z
SUMMARY:Nick Hill
END:VEVENT
END:VCALENDAR
