BEGIN:VCALENDAR
VERSION:2.0
PRODID:-//Squarespace Inc/Squarespace 6//v6//EN
BEGIN:VEVENT
UID:5c2d6096aa4a99b8798bb22a@squarespace.com
DTSTAMP:20190103T010945Z
DTSTART:20190203T010000Z
DTEND:20190203T040000Z
SUMMARY:Andrew Stergio
END:VEVENT
END:VCALENDAR
