BEGIN:VCALENDAR
VERSION:2.0
PRODID:-//Squarespace Inc/Squarespace 6//v6//EN
BEGIN:VEVENT
UID:5c1749ac21c67c11efac38ce@squarespace.com
DTSTAMP:20181217T070127Z
DTSTART:20190120T010000Z
DTEND:20190120T040000Z
SUMMARY:Heidi Rose
END:VEVENT
END:VCALENDAR
