BEGIN:VCALENDAR
VERSION:2.0
PRODID:-//Squarespace Inc/Squarespace 6//v6//EN
BEGIN:VEVENT
UID:5c17496db8a0454b6ae39ef8@squarespace.com
DTSTAMP:20181217T070050Z
DTSTART:20190119T010000Z
DTEND:20190119T040000Z
SUMMARY:Hannah T
END:VEVENT
END:VCALENDAR
