BEGIN:VCALENDAR
VERSION:2.0
PRODID:-//Squarespace Inc/Squarespace 6//v6//EN
BEGIN:VEVENT
UID:5c174950cd836685a4b935a0@squarespace.com
DTSTAMP:20181217T065950Z
DTSTART:20190113T010000Z
DTEND:20190113T040000Z
SUMMARY:Sarah Bernardo
END:VEVENT
END:VCALENDAR
