BEGIN:VCALENDAR
VERSION:2.0
PRODID:-//Squarespace Inc/Squarespace 6//v6//EN
BEGIN:VEVENT
UID:5c17493303ce649dbacbcb48@squarespace.com
DTSTAMP:20181217T065921Z
DTSTART:20190112T010000Z
DTEND:20190112T040000Z
SUMMARY:Gordon Tan
END:VEVENT
END:VCALENDAR
