BEGIN:VCALENDAR
VERSION:2.0
PRODID:-//Squarespace Inc/Squarespace 6//v6//EN
BEGIN:VEVENT
UID:5b8f8286aa4a9934dd5e0b9c@squarespace.com
DTSTAMP:20180905T071602Z
DTSTART:20180930T030000Z
DTEND:20181001T030000Z
SUMMARY:JOEY D
END:VEVENT
END:VCALENDAR
