BEGIN:VCALENDAR
VERSION:2.0
PRODID:-//Squarespace Inc/Squarespace 6//v6//EN
BEGIN:VEVENT
UID:5b8f8262898583a9bc818a68@squarespace.com
DTSTAMP:20180905T071507Z
DTSTART:20180929T000000Z
DTEND:20180929T030000Z
SUMMARY:RYAN THOMAS
END:VEVENT
END:VCALENDAR
