BEGIN:VCALENDAR
VERSION:2.0
PRODID:-//Squarespace Inc/Squarespace 6//v6//EN
BEGIN:VEVENT
UID:5b8f80300ebbe8644d3f4448@squarespace.com
DTSTAMP:20180905T070617Z
DTSTART:20180916T000000Z
DTEND:20180916T030000Z
SUMMARY:JOHN RYLL
END:VEVENT
END:VCALENDAR
