BEGIN:VCALENDAR
VERSION:2.0
PRODID:-//Squarespace Inc/Squarespace 6//v6//EN
BEGIN:VEVENT
UID:5b8f7f15758d4614cb6bfc9b@squarespace.com
DTSTAMP:20180905T070442Z
DTSTART:20180902T000000Z
DTEND:20180902T030000Z
SUMMARY:CHAR ROSE
END:VEVENT
END:VCALENDAR
