BEGIN:VCALENDAR
VERSION:2.0
PRODID:-//Squarespace Inc/Squarespace 6//v6//EN
BEGIN:VEVENT
UID:5bfb49cd4fa51a471a7a5361@squarespace.com
DTSTAMP:20181126T012017Z
DTSTART:20190101T020000Z
DTEND:20190101T060000Z
SUMMARY:Vicky Turner Band
END:VEVENT
END:VCALENDAR
