BEGIN:VCALENDAR
VERSION:2.0
PRODID:-//Squarespace Inc/Squarespace 6//v6//EN
BEGIN:VEVENT
UID:5bfb49b58a922de88eedb621@squarespace.com
DTSTAMP:20181126T011756Z
DTSTART:20181230T010000Z
DTEND:20181230T040000Z
SUMMARY:Joey D
END:VEVENT
END:VCALENDAR
