BEGIN:VCALENDAR
VERSION:2.0
PRODID:-//Squarespace Inc/Squarespace 6//v6//EN
BEGIN:VEVENT
UID:5bfb4953c2241bd501187b87@squarespace.com
DTSTAMP:20181126T011729Z
DTSTART:20181229T010000Z
DTEND:20181229T040000Z
SUMMARY:Krishna
END:VEVENT
END:VCALENDAR
