BEGIN:VCALENDAR
VERSION:2.0
PRODID:-//Squarespace Inc/Squarespace 6//v6//EN
BEGIN:VEVENT
UID:5bfb4923f950b75bc4d2ea8c@squarespace.com
DTSTAMP:20181126T011553Z
DTSTART:20181223T010000Z
DTEND:20181223T040000Z
SUMMARY:Marty Stewart
END:VEVENT
END:VCALENDAR
