BEGIN:VCALENDAR
VERSION:2.0
PRODID:-//Squarespace Inc/Squarespace 6//v6//EN
BEGIN:VEVENT
UID:5bfb4884562fa7c95df32e0a@squarespace.com
DTSTAMP:20181126T011429Z
DTSTART:20181222T010000Z
DTEND:20181222T040000Z
SUMMARY:Andrew Stergio
END:VEVENT
END:VCALENDAR
