BEGIN:VCALENDAR
VERSION:2.0
PRODID:-//Squarespace Inc/Squarespace 6//v6//EN
BEGIN:VEVENT
UID:5bfb47e21ae6cf43c2b7d119@squarespace.com
DTSTAMP:20181126T011032Z
DTSTART:20181216T010000Z
DTEND:20181216T040000Z
SUMMARY:Big Rich
END:VEVENT
END:VCALENDAR
