BEGIN:VCALENDAR
VERSION:2.0
PRODID:-//Squarespace Inc/Squarespace 6//v6//EN
BEGIN:VEVENT
UID:5bbb2c09f4e1fc3d3bb93990@squarespace.com
DTSTAMP:20181008T101431Z
DTSTART:20181110T010000Z
DTEND:20181110T040000Z
SUMMARY:PETER KINCH
END:VEVENT
END:VCALENDAR
