BEGIN:VCALENDAR
VERSION:2.0
PRODID:-//Squarespace Inc/Squarespace 6//v6//EN
BEGIN:VEVENT
UID:5bbb2be515fcc04e6f02b466@squarespace.com
DTSTAMP:20181008T101422Z
DTSTART:20181104T000000Z
DTEND:20181104T030000Z
SUMMARY:KEITH ARMITAGE
END:VEVENT
END:VCALENDAR
