BEGIN:VCALENDAR
VERSION:2.0
PRODID:-//Squarespace Inc/Squarespace 6//v6//EN
BEGIN:VEVENT
UID:5bfb47960ebbe88c33aa79ee@squarespace.com
DTSTAMP:20181126T011110Z
DTSTART:20181215T010000Z
DTEND:20181215T040000Z
SUMMARY:Dennis Val
END:VEVENT
END:VCALENDAR
