BEGIN:VCALENDAR
VERSION:2.0
PRODID:-//Squarespace Inc/Squarespace 6//v6//EN
BEGIN:VEVENT
UID:5bfb474e8a922de88eed9425@squarespace.com
DTSTAMP:20181126T011216Z
DTSTART:20181209T010000Z
DTEND:20181209T040000Z
SUMMARY:Brad Christmas 
END:VEVENT
END:VCALENDAR
