BEGIN:VCALENDAR
VERSION:2.0
PRODID:-//Squarespace Inc/Squarespace 6//v6//EN
BEGIN:VEVENT
UID:5bbb2ca224a69418550ccdc1@squarespace.com
DTSTAMP:20181008T101648Z
DTSTART:20181124T233000Z
DTEND:20181125T030000Z
SUMMARY:ROY ORBISON &amp\; JOHNNY CASH | TRIBUTE SHOW
END:VEVENT
END:VCALENDAR
