BEGIN:VCALENDAR
VERSION:2.0
PRODID:-//Squarespace Inc/Squarespace 6//v6//EN
BEGIN:VEVENT
UID:5bbb2c61f4e1fc3d3bb93ed2@squarespace.com
DTSTAMP:20181008T101503Z
DTSTART:20181118T010000Z
DTEND:20181118T040000Z
SUMMARY:RUSS HULL
END:VEVENT
END:VCALENDAR
