BEGIN:VCALENDAR
VERSION:2.0
PRODID:-//Squarespace Inc/Squarespace 6//v6//EN
BEGIN:VEVENT
UID:5bbb2c2c24a69418550cc990@squarespace.com
DTSTAMP:20181008T101440Z
DTSTART:20181111T000000Z
DTEND:20181111T040000Z
SUMMARY:LLOYD BOWDEN
END:VEVENT
END:VCALENDAR
