BEGIN:VCALENDAR
VERSION:2.0
PRODID:-//Squarespace Inc/Squarespace 6//v6//EN
BEGIN:VEVENT
UID:5b8f82decd8366875c408a47@squarespace.com
DTSTAMP:20180905T071743Z
DTSTART:20181007T000000Z
DTEND:20181007T030000Z
SUMMARY:MITCH GARDNER
END:VEVENT
END:VCALENDAR
