BEGIN:VCALENDAR
VERSION:2.0
PRODID:-//Squarespace Inc/Squarespace 6//v6//EN
BEGIN:VEVENT
UID:5b8f848d0e2e72196156bb08@squarespace.com
DTSTAMP:20180905T072418Z
DTSTART:20181028T000000Z
DTEND:20181028T030000Z
SUMMARY:STEVE TONGE
END:VEVENT
END:VCALENDAR
