BEGIN:VCALENDAR
VERSION:2.0
PRODID:-//Squarespace Inc/Squarespace 6//v6//EN
BEGIN:VEVENT
UID:5b8f8344575d1fff85ebd96c@squarespace.com
DTSTAMP:20180905T071848Z
DTSTART:20181014T000000Z
DTEND:20181014T030000Z
SUMMARY:BIG RICH
END:VEVENT
END:VCALENDAR
